BEGIN:VCALENDAR
VERSION:2.0
PRODID:icalendar-ruby
CALSCALE:GREGORIAN
METHOD:PUBLISH
BEGIN:VEVENT
DTSTAMP:20260423T222025Z
UID:25-712556@westview-bigpatch-churches.com
DTSTART:20260722T233000Z
DTEND:20260723T003000Z
CLASS:PUBLIC
CREATED:20260423T153841
DESCRIPTION:
LAST-MODIFIED:20260423T153841
LOCATION:Westview Methodist
SUMMARY:Bible Study & Prayer
URL;VALUE=URI:https://www.westview-bigpatch-churches.com/events/bible-study
 -prayer/2026-07-22
END:VEVENT
END:VCALENDAR
