BEGIN:VCALENDAR
VERSION:2.0
PRODID:icalendar-ruby
CALSCALE:GREGORIAN
METHOD:PUBLISH
BEGIN:VEVENT
DTSTAMP:20260423T233902Z
UID:25-712993@westview-bigpatch-churches.com
DTSTART:20260729T233000Z
DTEND:20260730T003000Z
CLASS:PUBLIC
CREATED:20260423T183221
DESCRIPTION:
LAST-MODIFIED:20260423T183221
LOCATION:Westview Methodist
SUMMARY:Bible Study & Prayer
URL;VALUE=URI:https://www.westview-bigpatch-churches.com/events/bible-study
 -prayer/2026-07-29
END:VEVENT
END:VCALENDAR
