BEGIN:VCALENDAR
VERSION:2.0
PRODID:icalendar-ruby
CALSCALE:GREGORIAN
METHOD:PUBLISH
BEGIN:VEVENT
DTSTAMP:20260424T104534Z
UID:25-713437@westview-bigpatch-churches.com
DTSTART:20260923T233000Z
DTEND:20260924T003000Z
CLASS:PUBLIC
CREATED:20260423T212623
DESCRIPTION:
LAST-MODIFIED:20260423T212623
LOCATION:Westview Methodist
SUMMARY:Bible Study & Prayer
URL;VALUE=URI:https://www.westview-bigpatch-churches.com/events/bible-study
 -prayer/2026-09-23
END:VEVENT
END:VCALENDAR
