BEGIN:VCALENDAR
VERSION:2.0
PRODID:icalendar-ruby
CALSCALE:GREGORIAN
METHOD:PUBLISH
BEGIN:VEVENT
DTSTAMP:20260424T115931Z
UID:25-713874@westview-bigpatch-churches.com
DTSTART:20260930T233000Z
DTEND:20261001T003000Z
CLASS:PUBLIC
CREATED:20260424T065446
DESCRIPTION:
LAST-MODIFIED:20260424T065446
LOCATION:Westview Methodist
SUMMARY:Bible Study & Prayer
URL;VALUE=URI:https://www.westview-bigpatch-churches.com/events/bible-study
 -prayer/2026-09-30
END:VEVENT
END:VCALENDAR
