BEGIN:VCALENDAR
VERSION:2.0
PRODID:icalendar-ruby
CALSCALE:GREGORIAN
METHOD:PUBLISH
BEGIN:VEVENT
DTSTAMP:20260424T150808Z
UID:25-714312@westview-bigpatch-churches.com
DTSTART:20261014T233000Z
DTEND:20261015T003000Z
CLASS:PUBLIC
CREATED:20260424T094805
DESCRIPTION:
LAST-MODIFIED:20260424T094805
LOCATION:Westview Methodist
SUMMARY:Bible Study & Prayer
URL;VALUE=URI:https://www.westview-bigpatch-churches.com/events/bible-study
 -prayer/2026-10-14
END:VEVENT
END:VCALENDAR
