BEGIN:VCALENDAR
VERSION:2.0
PRODID:icalendar-ruby
CALSCALE:GREGORIAN
METHOD:PUBLISH
BEGIN:VEVENT
DTSTAMP:20260424T183416Z
UID:25-714750@westview-bigpatch-churches.com
DTSTART:20261028T233000Z
DTEND:20261029T003000Z
CLASS:PUBLIC
CREATED:20260424T123528
DESCRIPTION:
LAST-MODIFIED:20260424T123528
LOCATION:Westview Methodist
SUMMARY:Bible Study & Prayer
URL;VALUE=URI:https://www.westview-bigpatch-churches.com/events/bible-study
 -prayer/2026-10-28
END:VEVENT
END:VCALENDAR
