BEGIN:VCALENDAR
VERSION:2.0
PRODID:icalendar-ruby
CALSCALE:GREGORIAN
METHOD:PUBLISH
BEGIN:VEVENT
DTSTAMP:20260424T201316Z
UID:25-714751@westview-bigpatch-churches.com
DTSTART:20261105T003000Z
DTEND:20261105T013000Z
CLASS:PUBLIC
CREATED:20260424T123528
DESCRIPTION:
LAST-MODIFIED:20260424T123528
LOCATION:Westview Methodist
SUMMARY:Bible Study & Prayer
URL;VALUE=URI:https://www.westview-bigpatch-churches.com/events/bible-study
 -prayer/2026-11-04
END:VEVENT
END:VCALENDAR
